BEGIN:VCALENDAR
VERSION:2.0
PRODID:-//R3 Wellness - ECPv6.15.20//NONSGML v1.0//EN
CALSCALE:GREGORIAN
METHOD:PUBLISH
X-ORIGINAL-URL:https://r3wellnessnc.com
X-WR-CALDESC:Events for R3 Wellness
REFRESH-INTERVAL;VALUE=DURATION:PT1H
X-Robots-Tag:noindex
X-PUBLISHED-TTL:PT1H
BEGIN:VTIMEZONE
TZID:UTC
BEGIN:STANDARD
TZOFFSETFROM:+0000
TZOFFSETTO:+0000
TZNAME:UTC
DTSTART:20240101T000000
END:STANDARD
END:VTIMEZONE
BEGIN:VEVENT
DTSTART;TZID=UTC:20250112T150000
DTEND;TZID=UTC:20250112T160000
DTSTAMP:20260424T152442
CREATED:20241229T142600Z
LAST-MODIFIED:20241229T142600Z
UID:10000151-1736694000-1736697600@r3wellnessnc.com
SUMMARY:Somatic Therapy - Working through Being Stuck
DESCRIPTION:Feeling stuck is a common human experience. It can show up as mental fog\, emotional overwhelm\, physical tension\, or a sense of being unable to move forward despite your best efforts. Whether it’s a lingering feeling of inertia or a deeper sense of being trapped in patterns that no longer serve you\, somatic therapy offers a powerful pathway for breaking free. \nHere’s how it works: \nBringing Awareness to the Body \nOften\, we’re so focused on fixing our external problems that we overlook what’s happening inside. Somatic therapy invites you to slow down and tune in to physical sensations. Where do you feel tightness\, heaviness\, or discomfort? This mindful body awareness helps identify where tension or unprocessed emotions may be held. \nRegulating the Nervous System \nFeeling stuck is often a sign that the nervous system is dysregulated\, stuck in a state of overwhelm (fight or flight) or shutdown (freeze). Somatic therapy uses techniques such as grounding\, breathwork\, and gentle movement to help calm the nervous system and create a sense of safety. This regulation is key to unlocking stored energy and moving forward. \nReleasing Physical Tension \nThe body often holds on to unresolved stress in the form of chronic tension or patterns of contraction. Somatic therapy may involve small\, mindful movements\, stretching\, or even somatic touch (when appropriate and within the therapist’s scope) to release these patterns. \nExploring Emotions Through the Body \nEmotions are not just in the mind—they live in the body as sensations. Somatic therapy helps you explore emotions like fear\, anger\, or sadness by feeling them in your body\, rather than suppressing or overthinking them. This process can lead to emotional breakthroughs and a sense of relief. \nRestoring Flow and Vitality \nStuckness often involves a sense of stagnation—whether physical\, emotional\, or energetic. Somatic therapy promotes a return to flow by reconnecting you with your body’s natural rhythms. This may include practices such as shaking\, rhythmic movement\, or guided visualization to stimulate the release of blocked energy.
URL:https://r3wellnessnc.com/event/somatic-therapy-working-through-being-stuck/
LOCATION:R3 Wellness\, 5410 Hwy 55\, Suite M\, Durham\, NC\, 27713\, United States
ATTACH;FMTTYPE=image/jpeg:https://r3wellnessnc.com/wp-content/uploads/2024/12/Somatic-therapy-class-image.jpeg
END:VEVENT
END:VCALENDAR