BEGIN:VCALENDAR
VERSION:2.0
PRODID:-//R3 Wellness - ECPv6.15.20//NONSGML v1.0//EN
CALSCALE:GREGORIAN
METHOD:PUBLISH
X-ORIGINAL-URL:https://r3wellnessnc.com
X-WR-CALDESC:Events for R3 Wellness
REFRESH-INTERVAL;VALUE=DURATION:PT1H
X-Robots-Tag:noindex
X-PUBLISHED-TTL:PT1H
BEGIN:VTIMEZONE
TZID:UTC
BEGIN:STANDARD
TZOFFSETFROM:+0000
TZOFFSETTO:+0000
TZNAME:UTC
DTSTART:20240101T000000
END:STANDARD
END:VTIMEZONE
BEGIN:VEVENT
DTSTART;TZID=UTC:20250126T150000
DTEND;TZID=UTC:20250126T163000
DTSTAMP:20260424T202238
CREATED:20241229T153315Z
LAST-MODIFIED:20241229T153558Z
UID:10000152-1737903600-1737909000@r3wellnessnc.com
SUMMARY:Tame the Flame: Unlock the Secrets to Reducing Inflammation Naturally
DESCRIPTION:Inflammation affects every aspect of our health\, from digestion to energy levels.  It even impacts our emotional well-being as emotions can become trapped in the body\, leading to inflammation and stuck energy.  Join expert Melanie Yukov\, Integrative Nutrition Health Coach\, Community Herbalist\, and Orofacial Myologist\, for a free 1.5-hour workshop that dives into what inflammation is\, how it manifests\, and how to manage it naturally. You’ll learn about anti-inflammatory foods\, herbs\, emotional triggers\, and label-reading tips to avoid hidden inflammatory ingredients. Walk away with actionable talking points and a powerful practice tool to reduce inflammation and reclaim your vitality. Don’t miss this opportunity to gain holistic insights and start your journey toward better health! \nLeave empowered with practical tools and expert insights to transform your well-being.
URL:https://r3wellnessnc.com/event/tame-the-flame-unlock-the-secrets-to-reducing-inflammation-naturally/
LOCATION:NC
ATTACH;FMTTYPE=image/jpeg:https://r3wellnessnc.com/wp-content/uploads/2024/12/Possible-signs-of-inflammation.jpg
END:VEVENT
END:VCALENDAR