BEGIN:VCALENDAR
VERSION:2.0
PRODID:-//R3 Wellness - ECPv6.15.20//NONSGML v1.0//EN
CALSCALE:GREGORIAN
METHOD:PUBLISH
X-WR-CALNAME:R3 Wellness
X-ORIGINAL-URL:https://r3wellnessnc.com
X-WR-CALDESC:Events for R3 Wellness
REFRESH-INTERVAL;VALUE=DURATION:PT1H
X-Robots-Tag:noindex
X-PUBLISHED-TTL:PT1H
BEGIN:VTIMEZONE
TZID:UTC
BEGIN:STANDARD
TZOFFSETFROM:+0000
TZOFFSETTO:+0000
TZNAME:UTC
DTSTART:20240101T000000
END:STANDARD
END:VTIMEZONE
BEGIN:VEVENT
DTSTART;TZID=UTC:20250307T120000
DTEND;TZID=UTC:20250307T130000
DTSTAMP:20260423T001744
CREATED:20250301T164810Z
LAST-MODIFIED:20250301T194911Z
UID:10000154-1741348800-1741352400@r3wellnessnc.com
SUMMARY:The Lifelong Runner: a Physiotherapist's Insights
DESCRIPTION:If you’re a runner in any capacity\, whether you’re a trained athlete\, a weekend warrior\, or just starting out\, you’re not immune to the many injuries that plague the repetitive loads of the sport. If you’ve been injured before\, are working through an injury\, or just want to prevent injury\, this workshop is for you.  \nWhat we’ll cover: \nCommon injuries seen in runners \nWhat you may be doing wrong  \nWhat you should do for injury management  \nWhat you should be doing for injury prevention
URL:https://r3wellnessnc.com/event/the-lifelong-runner-a-physiotherapists-insights/
LOCATION:R3 Wellness\, 5410 Hwy 55\, Suite M\, Durham\, NC\, 27713\, United States
ATTACH;FMTTYPE=image/png:https://r3wellnessnc.com/wp-content/uploads/2025/03/The-lifelong-runner-a-physiotherapists-insights.png
END:VEVENT
END:VCALENDAR