BEGIN:VCALENDAR
VERSION:2.0
PRODID:-//R3 Wellness - ECPv6.15.20//NONSGML v1.0//EN
CALSCALE:GREGORIAN
METHOD:PUBLISH
X-ORIGINAL-URL:https://r3wellnessnc.com
X-WR-CALDESC:Events for R3 Wellness
REFRESH-INTERVAL;VALUE=DURATION:PT1H
X-Robots-Tag:noindex
X-PUBLISHED-TTL:PT1H
BEGIN:VTIMEZONE
TZID:UTC
BEGIN:STANDARD
TZOFFSETFROM:+0000
TZOFFSETTO:+0000
TZNAME:UTC
DTSTART:20240101T000000
END:STANDARD
END:VTIMEZONE
BEGIN:VEVENT
DTSTART;TZID=UTC:20250816T100000
DTEND;TZID=UTC:20250817T180000
DTSTAMP:20260422T152259
CREATED:20250803T132940Z
LAST-MODIFIED:20250803T153819Z
UID:10000160-1755338400-1755453600@r3wellnessnc.com
SUMMARY:Visit us at the Body\, Mind\, Spirit Expo
DESCRIPTION:Ascend with the Body Mind Spirit Celebration! Lift your spirits with the magic as you explore live learning sessions\, roaming Cirque performers and live entertainment. Spread your wings and shop at incredible vendors\, get a reading or healing and connect with your community! Raise your own energy and explore your own innate gifts. The time for lift-off is NOW. R3 Wellness will be participating.  Find us in Booth 339 throughout the show or listen to our learning session: Water and Earth Healing on Sunday at 12p.  Tickets good all weekend\, and are available at www.bmse.net or at the NC Fairgrounds Exposition Center the day of the show.
URL:https://r3wellnessnc.com/event/visit-us-at-the-body-mind-spirit-expo/
LOCATION:NC State Fairgrounds Exposition Center\, 4825 Trinity Road\, Raleigh\, NC\, 27607
ATTACH;FMTTYPE=image/png:https://r3wellnessnc.com/wp-content/uploads/2025/08/What-is-Sound-Healing-3.png
END:VEVENT
END:VCALENDAR