BEGIN:VCALENDAR
VERSION:2.0
PRODID:-//R3 Wellness - ECPv6.15.20//NONSGML v1.0//EN
CALSCALE:GREGORIAN
METHOD:PUBLISH
X-WR-CALNAME:R3 Wellness
X-ORIGINAL-URL:https://r3wellnessnc.com
X-WR-CALDESC:Events for R3 Wellness
REFRESH-INTERVAL;VALUE=DURATION:PT1H
X-Robots-Tag:noindex
X-PUBLISHED-TTL:PT1H
BEGIN:VTIMEZONE
TZID:UTC
BEGIN:STANDARD
TZOFFSETFROM:+0000
TZOFFSETTO:+0000
TZNAME:UTC
DTSTART:20240101T000000
END:STANDARD
END:VTIMEZONE
BEGIN:VEVENT
DTSTART;TZID=UTC:20250525T150000
DTEND;TZID=UTC:20250525T170000
DTSTAMP:20260422T184455
CREATED:20250524T165515Z
LAST-MODIFIED:20250524T165515Z
UID:10000156-1748185200-1748192400@r3wellnessnc.com
SUMMARY:Ask Teacher Series : Get your Questions Answered
DESCRIPTION:Got a burning question about crystals\, rocks and stones?  Want to ask about meditation\, energy healing or mindfulness?  This is your time to ask your questions.  No appointment necessary.  Drop in during the session time and we’ll answer questions as people ask them.
URL:https://r3wellnessnc.com/event/ask-teacher-series-get-your-questions-answered/
LOCATION:R3 Wellness\, 5410 Hwy 55\, Suite M\, Durham\, NC\, 27713\, United States
ATTACH;FMTTYPE=image/png:https://r3wellnessnc.com/wp-content/uploads/2025/05/We-have-moved-sign_letter-size.png
END:VEVENT
END:VCALENDAR