BEGIN:VCALENDAR
VERSION:2.0
PRODID:-//R3 Wellness - ECPv6.15.20//NONSGML v1.0//EN
CALSCALE:GREGORIAN
METHOD:PUBLISH
X-WR-CALNAME:R3 Wellness
X-ORIGINAL-URL:https://r3wellnessnc.com
X-WR-CALDESC:Events for R3 Wellness
REFRESH-INTERVAL;VALUE=DURATION:PT1H
X-Robots-Tag:noindex
X-PUBLISHED-TTL:PT1H
BEGIN:VTIMEZONE
TZID:UTC
BEGIN:STANDARD
TZOFFSETFROM:+0000
TZOFFSETTO:+0000
TZNAME:UTC
DTSTART:20240101T000000
END:STANDARD
END:VTIMEZONE
BEGIN:VEVENT
DTSTART;VALUE=DATE:20250622
DTEND;VALUE=DATE:20250729
DTSTAMP:20260422T152259
CREATED:20250525T203505Z
LAST-MODIFIED:20250704T165244Z
UID:10000157-1750550400-1753747199@r3wellnessnc.com
SUMMARY:We have Moved!
DESCRIPTION:R3 Wellness has moved to Greenwood Commons\, just south of our current location.  We finished the heavy lifting and our underwater treadmill and hydrotherapy lounge are in place.  Now we are hard at work arranging all the affordable crystals\, rocks\, stone jewelry and metaphysical supplies\, along with making way for our new and improved private and group event spaces.  Come visit us at  5410 Hwy 55\, suite M\, Durham NC 27713.  Hours and map location are current on Google.
URL:https://r3wellnessnc.com/event/we-are-moving/
LOCATION:R3 Wellness\, 5410 Hwy 55\, Suite M\, Durham\, NC\, 27713\, United States
ATTACH;FMTTYPE=image/png:https://r3wellnessnc.com/wp-content/uploads/2025/05/Underwater-Treadmill-HydroTherapy-Lounge-Reiki-Energy-Healing-Crystals-Rocks-Stone-Jewelery-and-Metaphysical-Supplies.png
END:VEVENT
BEGIN:VEVENT
DTSTART;VALUE=DATE:20250705
DTEND;VALUE=DATE:20250801
DTSTAMP:20260422T152259
CREATED:20250705T205813Z
LAST-MODIFIED:20250705T210433Z
UID:10000159-1751673600-1754006399@r3wellnessnc.com
SUMMARY:T-Shirt Design contest
DESCRIPTION:Calling all creative souls out there!  It’s time to get new shirts at R3 Wellness and we want to know what you think should be on the back.   What says Rocks\, Recovery\, and Relaxation to you. Some of our past designs included “I have a crystal for that” and “Relax and Buy a Rock”.   The new shirt will be tie-dye with the winning design featured on the back.  The winner receives a free shirt and a $25 gift certificate to use in store\, along with bragging rights for the best design.  Submit your entry to info@R3WellnessNC.com by July 30th.  All entries become the property of R3 Wellness and no further compensation will be offered for use of the designs submitted. \n 
URL:https://r3wellnessnc.com/event/t-shirt-design-contest/
LOCATION:R3 Wellness\, 5410 Hwy 55\, Suite M\, Durham\, NC\, 27713\, United States
ATTACH;FMTTYPE=image/png:https://r3wellnessnc.com/wp-content/uploads/2025/07/Design-Contest.png
END:VEVENT
BEGIN:VEVENT
DTSTART;TZID=UTC:20250720T150000
DTEND;TZID=UTC:20250720T170000
DTSTAMP:20260422T152259
CREATED:20250705T205120Z
LAST-MODIFIED:20250705T205120Z
UID:10000158-1753023600-1753030800@r3wellnessnc.com
SUMMARY:Ask Teacher Series : Get your Questions Answered
DESCRIPTION:Got a burning question about crystals\, rocks and stones?  Want to ask about meditation\, energy healing or mindfulness?  This is your time to ask your questions.  No appointment necessary.  Drop in during the session time and we’ll answer questions as people ask them.
URL:https://r3wellnessnc.com/event/ask-teacher-series-get-your-questions-answered-2/
LOCATION:R3 Wellness\, 5410 Hwy 55\, Suite M\, Durham\, NC\, 27713\, United States
ATTACH;FMTTYPE=image/png:https://r3wellnessnc.com/wp-content/uploads/2025/07/We-have-moved-sign_letter-size-3.png
END:VEVENT
END:VCALENDAR