BEGIN:VCALENDAR
VERSION:2.0
PRODID:-//R3 Wellness - ECPv6.15.20//NONSGML v1.0//EN
CALSCALE:GREGORIAN
METHOD:PUBLISH
X-ORIGINAL-URL:https://r3wellnessnc.com
X-WR-CALDESC:Events for R3 Wellness
REFRESH-INTERVAL;VALUE=DURATION:PT1H
X-Robots-Tag:noindex
X-PUBLISHED-TTL:PT1H
BEGIN:VTIMEZONE
TZID:UTC
BEGIN:STANDARD
TZOFFSETFROM:+0000
TZOFFSETTO:+0000
TZNAME:UTC
DTSTART:20250101T000000
END:STANDARD
END:VTIMEZONE
BEGIN:VEVENT
DTSTART;TZID=UTC:20260118T150000
DTEND;TZID=UTC:20260118T160000
DTSTAMP:20260422T034454
CREATED:20260104T180058Z
LAST-MODIFIED:20260104T180058Z
UID:10000163-1768748400-1768752000@r3wellnessnc.com
SUMMARY:Earth's Ancient Wisdom: Crystals for the New Year
DESCRIPTION:Join us for our first in-person class of 2026.\nEvent is free but space is limited so reservations are required. \nKickstart your 2026 transformation by tapping into the vibrational power of the mineral kingdom with Jeff Jenkins. In this hands-on workshop\, we explore how to partner with crystals to ground your New Year intentions and clear away stagnant energy from the past. You’ll learn the unique properties of “New Year Essentials”—including Amethyst for clarity\, Rose Quartz for self-compassion\, and Clear Quartz for amplification. \nWhether you are a seasoned collector or “crystal curious\,” you will walk away with practical techniques for cleansing\, charging\, and manifesting with your stones. Join us to align your personal frequency and carry the earth’s ancient support with you all year long.
URL:https://r3wellnessnc.com/event/earths-ancient-wisdom-crystals-for-the-new-year/
LOCATION:R3 Wellness\, 5410 Hwy 55\, Suite M\, Durham\, NC\, 27713\, United States
ATTACH;FMTTYPE=image/png:https://r3wellnessnc.com/wp-content/uploads/2026/01/Your-paragraph-text-11.png
END:VEVENT
END:VCALENDAR